BEGIN:VCALENDAR
VERSION:2.0
PRODID:-//Bluff Country Co-op - ECPv6.15.18//NONSGML v1.0//EN
CALSCALE:GREGORIAN
METHOD:PUBLISH
X-WR-CALNAME:Bluff Country Co-op
X-ORIGINAL-URL:https://www.bluff.coop
X-WR-CALDESC:Events for Bluff Country Co-op
REFRESH-INTERVAL;VALUE=DURATION:PT1H
X-Robots-Tag:noindex
X-PUBLISHED-TTL:PT1H
BEGIN:VTIMEZONE
TZID:America/Chicago
BEGIN:DAYLIGHT
TZOFFSETFROM:-0600
TZOFFSETTO:-0500
TZNAME:CDT
DTSTART:20250309T080000
END:DAYLIGHT
BEGIN:STANDARD
TZOFFSETFROM:-0500
TZOFFSETTO:-0600
TZNAME:CST
DTSTART:20251102T070000
END:STANDARD
BEGIN:DAYLIGHT
TZOFFSETFROM:-0600
TZOFFSETTO:-0500
TZNAME:CDT
DTSTART:20260308T080000
END:DAYLIGHT
BEGIN:STANDARD
TZOFFSETFROM:-0500
TZOFFSETTO:-0600
TZNAME:CST
DTSTART:20261101T070000
END:STANDARD
BEGIN:DAYLIGHT
TZOFFSETFROM:-0600
TZOFFSETTO:-0500
TZNAME:CDT
DTSTART:20270314T080000
END:DAYLIGHT
BEGIN:STANDARD
TZOFFSETFROM:-0500
TZOFFSETTO:-0600
TZNAME:CST
DTSTART:20271107T070000
END:STANDARD
END:VTIMEZONE
BEGIN:VEVENT
DTSTART;TZID=America/Chicago:20260618T180000
DTEND;TZID=America/Chicago:20260618T193000
DTSTAMP:20260422T201851
CREATED:20260413T213132Z
LAST-MODIFIED:20260413T220530Z
UID:14188-1781805600-1781811000@www.bluff.coop
SUMMARY:Making Fresh Cheese Two Ways
DESCRIPTION:Join us in making two of the fastest fresh cheese options in one class!  For one option\, we will learn how to make Farmer’s Cheese. This cheese has a fresh\, soft curd and a wide variety of finishing options\, and can be served sweet or savory. As part of the class\, each attendee will get to take home a container of this cheese to enjoy.  The other cheese option we will make during our time together is an all-natural\, Velveeta-like variety.  Learn how to create a homemade and healthier version of a childhood favorite that you can feel good about sharing with your friends and family. This cheese will be served fresh and warm in class with tortilla chips.\n\nThursday\, June 18\, 2026 \n6:00 pm – 7:30 pm \nCost: $25 cash per student. \nSarah Miles is a niche farmer in Winona County\, working to make traditional farming knowledge and goods relevant and accessible in a changing world. She is a single mom who gardens\, keeps livestock\, forages\, cooks\, cans\, ferments\, dehydrates\, practices herbalism\, and more!  For more information\, check out The Four Acre Farm at: https://www.facebook.com/profile.php?id=100064555758173 \nCost includes class materials & instructor’s fee.  Space is limited\, but all are welcome(minors must be accompanied by an adult). Please\, RSVP early by calling the store: (507) 452-1815\, or email: outreach@bluff.coop
URL:https://www.bluff.coop/event/making-fresh-cheese-two-ways/
LOCATION:Bluff Country Co-op Community Room\, 121 W. 2nd St.\, Winona\, MN\, 55987
CATEGORIES:Class
ATTACH;FMTTYPE=image/jpeg:https://www.bluff.coop/wp-content/uploads/Farmers-Cheese-Class-scaled.jpg
END:VEVENT
END:VCALENDAR